BEGIN:VCALENDAR
VERSION:2.0
PRODID:-//ChamberMaster//Event Calendar 2.0//EN
METHOD:PUBLISH
X-PUBLISHED-TTL:P3D
REFRESH-INTERVAL:P3D
CALSCALE:GREGORIAN
BEGIN:VEVENT
DTSTART:20260910T140000Z
DTEND:20260911T220000Z
X-MICROSOFT-CDO-ALLDAYEVENT:FALSE
SUMMARY:Zachariah's Acres Fall Mum Sale
DESCRIPTION:Shop our Fall Mum Sale for the best selection of Mums and Asters. We have over 400 mums\, 30 different varieties. The Farm Store stocks honey\, apples\, and fresh produce.
X-ALT-DESC;FMTTYPE=text/html:Shop our Fall Mum Sale for the best selection of Mums and Asters. We have over 400 mums\, 30 different varieties. The Farm Store stocks honey\, apples\, and fresh produce.
LOCATION:Zachariah's Acres N74W35911 Servant's Way Oconomowoc\, WI 53066
UID:e.3562.6824
SEQUENCE:3
DTSTAMP:20260422T000644Z
URL:https://business.oconomowoc.org/events/details/zachariah-s-acres-fall-mum-sale-6824
END:VEVENT

END:VCALENDAR
