BEGIN:VCALENDAR
VERSION:2.0
PRODID:-//ChamberMaster//Event Calendar 2.0//EN
METHOD:PUBLISH
X-PUBLISHED-TTL:P3D
REFRESH-INTERVAL:P3D
CALSCALE:GREGORIAN
BEGIN:VEVENT
DTSTART:20260824T153000Z
DTEND:20260825T000000Z
X-MICROSOFT-CDO-ALLDAYEVENT:FALSE
SUMMARY:Zachariah's Acres Golf Outing
DESCRIPTION:Join us for a day of golf at the beautiful Oconomowoc Golf Club to support special kids! Golf Ticket includes: Lunch\, Dinner\, Cart\, and more! Not a golfer? Join us for dinner & auction: 5:30 PM - 7 PM
X-ALT-DESC;FMTTYPE=text/html:Join us for a day of golf at the beautiful Oconomowoc Golf Club to support special kids! Golf Ticket includes: Lunch\, Dinner\, Cart\, and more! Not a golfer? Join us for dinner &amp\; auction: 5:30 PM - 7 PM
LOCATION:Oconomowoc Golf Club
UID:e.3562.6823
SEQUENCE:3
DTSTAMP:20260421T223235Z
URL:https://business.oconomowoc.org/events/details/zachariah-s-acres-golf-outing-6823
END:VEVENT

END:VCALENDAR
